BEGIN:VCALENDAR
VERSION:2.0
PRODID:-//Potkávárna u Havrana - ECPv6.15.11//NONSGML v1.0//EN
CALSCALE:GREGORIAN
METHOD:PUBLISH
X-ORIGINAL-URL:https://www.potkavarnauhavrana.cz
X-WR-CALDESC:Akce na Potkávárna u Havrana
REFRESH-INTERVAL;VALUE=DURATION:PT1H
X-Robots-Tag:noindex
X-PUBLISHED-TTL:PT1H
BEGIN:VTIMEZONE
TZID:UTC
BEGIN:STANDARD
TZOFFSETFROM:+0000
TZOFFSETTO:+0000
TZNAME:UTC
DTSTART:20250101T000000
END:STANDARD
END:VTIMEZONE
BEGIN:VEVENT
DTSTART;TZID=UTC:20260502T200000
DTEND;TZID=UTC:20260502T220000
DTSTAMP:20260426T031522
CREATED:20260121T210203Z
LAST-MODIFIED:20260121T210203Z
UID:21097-1777752000-1777759200@www.potkavarnauhavrana.cz
SUMMARY:koncert Martin Čepelík & Andrea Mineva
DESCRIPTION:
URL:https://www.potkavarnauhavrana.cz/event/koncert-martin-cepelik-andrea-mineva-2/
LOCATION:Potkávárna u Havrana\, Karlov 360\, Josefův Důl\, Česká Republika\, 468 44
END:VEVENT
BEGIN:VEVENT
DTSTART;TZID=UTC:20260613T200000
DTEND;TZID=UTC:20260613T220000
DTSTAMP:20260426T031522
CREATED:20260121T210609Z
LAST-MODIFIED:20260121T210609Z
UID:21099-1781380800-1781388000@www.potkavarnauhavrana.cz
SUMMARY:koncert Bárka
DESCRIPTION:
URL:https://www.potkavarnauhavrana.cz/event/koncert-barka/
LOCATION:Potkávárna u Havrana\, Karlov 360\, Josefův Důl\, Česká Republika\, 468 44
END:VEVENT
END:VCALENDAR