BEGIN:VCALENDAR
VERSION:2.0
PRODID:-//Potkávárna u Havrana - ECPv6.15.11//NONSGML v1.0//EN
CALSCALE:GREGORIAN
METHOD:PUBLISH
X-WR-CALNAME:Potkávárna u Havrana
X-ORIGINAL-URL:https://www.potkavarnauhavrana.cz
X-WR-CALDESC:Akce na Potkávárna u Havrana
REFRESH-INTERVAL;VALUE=DURATION:PT1H
X-Robots-Tag:noindex
X-PUBLISHED-TTL:PT1H
BEGIN:VTIMEZONE
TZID:UTC
BEGIN:STANDARD
TZOFFSETFROM:+0000
TZOFFSETTO:+0000
TZNAME:UTC
DTSTART:20220101T000000
END:STANDARD
END:VTIMEZONE
BEGIN:VEVENT
DTSTART;TZID=UTC:20250613T200000
DTEND;TZID=UTC:20250613T220000
DTSTAMP:20260426T020014
CREATED:20250606T144626Z
LAST-MODIFIED:20250606T144626Z
UID:18674-1749844800-1749852000@www.potkavarnauhavrana.cz
SUMMARY:koncert Martin Čepelík & Andrea Mineva
DESCRIPTION:
URL:https://www.potkavarnauhavrana.cz/event/koncert-martin-cepelik-andrea-mineva/
LOCATION:Potkávárna u Havrana\, Karlov 360\, Josefův Důl\, Česká Republika\, 468 44
ATTACH;FMTTYPE=image/jpeg:https://www.potkavarnauhavrana.cz/wp-content/uploads/2025/06/Martin-Andrea.jpg
END:VEVENT
BEGIN:VEVENT
DTSTART;TZID=UTC:20250530T200000
DTEND;TZID=UTC:20250530T220000
DTSTAMP:20260426T020014
CREATED:20250501T103746Z
LAST-MODIFIED:20250501T103746Z
UID:18318-1748635200-1748642400@www.potkavarnauhavrana.cz
SUMMARY:Beseda o závodu 1000 mil
DESCRIPTION:
URL:https://www.potkavarnauhavrana.cz/event/beseda-o-zavodu-1000-mil/
LOCATION:Potkávárna u Havrana\, Karlov 360\, Josefův Důl\, Česká Republika\, 468 44
ATTACH;FMTTYPE=image/jpeg:https://www.potkavarnauhavrana.cz/wp-content/uploads/2025/05/1000mil.jpg
END:VEVENT
BEGIN:VEVENT
DTSTART;TZID=UTC:20250420T200000
DTEND;TZID=UTC:20250420T230000
DTSTAMP:20260426T020014
CREATED:20250310T101958Z
LAST-MODIFIED:20250310T101958Z
UID:18161-1745179200-1745190000@www.potkavarnauhavrana.cz
SUMMARY:koncert Pohorny band
DESCRIPTION:
URL:https://www.potkavarnauhavrana.cz/event/koncert-pohorny-band/
LOCATION:Potkávárna u Havrana\, Karlov 360\, Josefův Důl\, Česká Republika\, 468 44
ATTACH;FMTTYPE=image/jpeg:https://www.potkavarnauhavrana.cz/wp-content/uploads/2025/03/PohornyBand.jpg
END:VEVENT
BEGIN:VEVENT
DTSTART;TZID=UTC:20250221T200000
DTEND;TZID=UTC:20250221T220000
DTSTAMP:20260426T020014
CREATED:20250109T182248Z
LAST-MODIFIED:20250109T182248Z
UID:17428-1740168000-1740175200@www.potkavarnauhavrana.cz
SUMMARY:Cestovatelská beseda Namibie
DESCRIPTION:
URL:https://www.potkavarnauhavrana.cz/event/cestovatelska-beseda-namibie/
LOCATION:Potkávárna u Havrana\, Karlov 360\, Josefův Důl\, Česká Republika\, 468 44
ATTACH;FMTTYPE=image/jpeg:https://www.potkavarnauhavrana.cz/wp-content/uploads/2025/01/namibie.jpg
END:VEVENT
BEGIN:VEVENT
DTSTART;TZID=UTC:20250214T200000
DTEND;TZID=UTC:20250214T220000
DTSTAMP:20260426T020014
CREATED:20250109T182135Z
LAST-MODIFIED:20250109T182135Z
UID:17426-1739563200-1739570400@www.potkavarnauhavrana.cz
SUMMARY:koncert Kabinet kuriozit
DESCRIPTION:
URL:https://www.potkavarnauhavrana.cz/event/koncert-kabinet-kuriozit/
LOCATION:Potkávárna u Havrana\, Karlov 360\, Josefův Důl\, Česká Republika\, 468 44
ATTACH;FMTTYPE=image/jpeg:https://www.potkavarnauhavrana.cz/wp-content/uploads/2025/01/KabinetKuriozit.jpg
END:VEVENT
BEGIN:VEVENT
DTSTART;TZID=UTC:20250201T180000
DTEND;TZID=UTC:20250201T220000
DTSTAMP:20260426T020014
CREATED:20241023T143523Z
LAST-MODIFIED:20241023T143523Z
UID:16567-1738432800-1738447200@www.potkavarnauhavrana.cz
SUMMARY:cestovatelská beseda & hostina - Maroko
DESCRIPTION:
URL:https://www.potkavarnauhavrana.cz/event/cestovatelska-beseda-hostina-maroko/
LOCATION:Potkávárna u Havrana\, Karlov 360\, Josefův Důl\, Česká Republika\, 468 44
ATTACH;FMTTYPE=image/jpeg:https://www.potkavarnauhavrana.cz/wp-content/uploads/2024/10/maroko-pozvanka.jpg
END:VEVENT
BEGIN:VEVENT
DTSTART;TZID=UTC:20250125T200000
DTEND;TZID=UTC:20250125T200000
DTSTAMP:20260426T020014
CREATED:20241202T192909Z
LAST-MODIFIED:20241202T193003Z
UID:16975-1737835200-1737835200@www.potkavarnauhavrana.cz
SUMMARY:Country bál
DESCRIPTION:
URL:https://www.potkavarnauhavrana.cz/event/country-bal-4/
LOCATION:Potkávárna u Havrana\, Karlov 360\, Josefův Důl\, Česká Republika\, 468 44
ATTACH;FMTTYPE=image/jpeg:https://www.potkavarnauhavrana.cz/wp-content/uploads/2024/12/CountryBal2025.jpg
END:VEVENT
BEGIN:VEVENT
DTSTART;TZID=UTC:20241214T200000
DTEND;TZID=UTC:20241214T230000
DTSTAMP:20260426T020014
CREATED:20241023T143135Z
LAST-MODIFIED:20241023T143135Z
UID:16563-1734206400-1734217200@www.potkavarnauhavrana.cz
SUMMARY:písničkář Inženýr Vladimír
DESCRIPTION:
URL:https://www.potkavarnauhavrana.cz/event/pisnickar-inzenyr-vladimir/
LOCATION:Potkávárna u Havrana\, Karlov 360\, Josefův Důl\, Česká Republika\, 468 44
ATTACH;FMTTYPE=image/jpeg:https://www.potkavarnauhavrana.cz/wp-content/uploads/2024/10/InzenyrVladimir-pozvanka.jpg
END:VEVENT
BEGIN:VEVENT
DTSTART;TZID=UTC:20241018T200000
DTEND;TZID=UTC:20241018T220000
DTSTAMP:20260426T020014
CREATED:20241007T154149Z
LAST-MODIFIED:20241007T154149Z
UID:16410-1729281600-1729288800@www.potkavarnauhavrana.cz
SUMMARY:koncert ZVA 12-28 (blues-rock)
DESCRIPTION:
URL:https://www.potkavarnauhavrana.cz/event/koncert-zva-12-28-blues-rock/
LOCATION:Potkávárna u Havrana\, Karlov 360\, Josefův Důl\, Česká Republika\, 468 44
ATTACH;FMTTYPE=image/jpeg:https://www.potkavarnauhavrana.cz/wp-content/uploads/2024/10/zva-12-28.jpg
END:VEVENT
BEGIN:VEVENT
DTSTART;TZID=UTC:20241005T200000
DTEND;TZID=UTC:20241005T230000
DTSTAMP:20260426T020014
CREATED:20240923T135749Z
LAST-MODIFIED:20240923T135749Z
UID:16355-1728158400-1728169200@www.potkavarnauhavrana.cz
SUMMARY:Good Water Band bluegrass
DESCRIPTION:
URL:https://www.potkavarnauhavrana.cz/event/good-water-band-bluegrass/
LOCATION:Potkávárna u Havrana\, Karlov 360\, Josefův Důl\, Česká Republika\, 468 44
ATTACH;FMTTYPE=image/jpeg:https://www.potkavarnauhavrana.cz/wp-content/uploads/2024/09/GoodWaterBand-pozvanka.jpg
END:VEVENT
BEGIN:VEVENT
DTSTART;TZID=UTC:20241004T200000
DTEND;TZID=UTC:20241004T230000
DTSTAMP:20260426T020014
CREATED:20240923T135612Z
LAST-MODIFIED:20240923T135612Z
UID:16351-1728072000-1728082800@www.potkavarnauhavrana.cz
SUMMARY:Balkánská dechovka Lipno
DESCRIPTION:
URL:https://www.potkavarnauhavrana.cz/event/balkanska-dechovka-lipno/
LOCATION:Potkávárna u Havrana\, Karlov 360\, Josefův Důl\, Česká Republika\, 468 44
ATTACH;FMTTYPE=image/jpeg:https://www.potkavarnauhavrana.cz/wp-content/uploads/2024/09/lipno-pozvanka.jpg
END:VEVENT
BEGIN:VEVENT
DTSTART;TZID=UTC:20240928T200000
DTEND;TZID=UTC:20240928T230000
DTSTAMP:20260426T020014
CREATED:20240818T132904Z
LAST-MODIFIED:20240818T132904Z
UID:15859-1727553600-1727564400@www.potkavarnauhavrana.cz
SUMMARY:Indie - cestovatelská beseda
DESCRIPTION:
URL:https://www.potkavarnauhavrana.cz/event/indie-cestovatelska-beseda/
LOCATION:Potkávárna u Havrana\, Karlov 360\, Josefův Důl\, Česká Republika\, 468 44
ATTACH;FMTTYPE=image/jpeg:https://www.potkavarnauhavrana.cz/wp-content/uploads/2024/08/Indie-pozvanka.jpg
END:VEVENT
BEGIN:VEVENT
DTSTART;TZID=UTC:20240922T140000
DTEND;TZID=UTC:20240922T170000
DTSTAMP:20260426T020014
CREATED:20240911T092744Z
LAST-MODIFIED:20240911T092744Z
UID:16224-1727013600-1727024400@www.potkavarnauhavrana.cz
SUMMARY:Spanilá jízda dvojkol
DESCRIPTION:
URL:https://www.potkavarnauhavrana.cz/event/spanila-jizda-dvojkol-2/
LOCATION:Česká Republika
ATTACH;FMTTYPE=image/jpeg:https://www.potkavarnauhavrana.cz/wp-content/uploads/2024/09/dvojkola3-pozvanka.jpg
END:VEVENT
BEGIN:VEVENT
DTSTART;TZID=UTC:20240920T200000
DTEND;TZID=UTC:20240920T220000
DTSTAMP:20260426T020015
CREATED:20240826T205439Z
LAST-MODIFIED:20240826T205439Z
UID:15919-1726862400-1726869600@www.potkavarnauhavrana.cz
SUMMARY:koncert - písničkář Ježíšek
DESCRIPTION:
URL:https://www.potkavarnauhavrana.cz/event/koncert-pisnickar-jezisek/
LOCATION:Potkávárna u Havrana\, Karlov 360\, Josefův Důl\, Česká Republika\, 468 44
END:VEVENT
BEGIN:VEVENT
DTSTART;TZID=UTC:20240816T200000
DTEND;TZID=UTC:20240816T220000
DTSTAMP:20260426T020015
CREATED:20240606T161754Z
LAST-MODIFIED:20240606T161754Z
UID:15219-1723838400-1723845600@www.potkavarnauhavrana.cz
SUMMARY:Zapomenutá historie Jizerských hor (beseda)
DESCRIPTION:
URL:https://www.potkavarnauhavrana.cz/event/zapomenuta-historie-jizerskych-hor-beseda/
LOCATION:Potkávárna u Havrana\, Karlov 360\, Josefův Důl\, Česká Republika\, 468 44
ATTACH;FMTTYPE=image/jpeg:https://www.potkavarnauhavrana.cz/wp-content/uploads/2024/06/ZapomenutaHistorie.jpg
END:VEVENT
BEGIN:VEVENT
DTSTART;TZID=UTC:20240809T200000
DTEND;TZID=UTC:20240809T230000
DTSTAMP:20260426T020015
CREATED:20240729T125700Z
LAST-MODIFIED:20240729T125700Z
UID:15681-1723233600-1723244400@www.potkavarnauhavrana.cz
SUMMARY:koncert skupiny Malukoš
DESCRIPTION:
URL:https://www.potkavarnauhavrana.cz/event/koncert-skupiny-malukos/
LOCATION:Potkávárna u Havrana\, Karlov 360\, Josefův Důl\, Česká Republika\, 468 44
ATTACH;FMTTYPE=image/jpeg:https://www.potkavarnauhavrana.cz/wp-content/uploads/2024/07/malukos-2024.jpg
END:VEVENT
BEGIN:VEVENT
DTSTART;TZID=UTC:20240727T210000
DTEND;TZID=UTC:20240727T230000
DTSTAMP:20260426T020015
CREATED:20240606T161605Z
LAST-MODIFIED:20240606T161605Z
UID:15215-1722114000-1722121200@www.potkavarnauhavrana.cz
SUMMARY:Zpívající kvarteto Sugarcutes
DESCRIPTION:
URL:https://www.potkavarnauhavrana.cz/event/zpivajici-kvarteto-sugarcutes/
LOCATION:Potkávárna u Havrana\, Karlov 360\, Josefův Důl\, Česká Republika\, 468 44
ATTACH;FMTTYPE=image/jpeg:https://www.potkavarnauhavrana.cz/wp-content/uploads/2024/06/sugercutes-2024.jpg
END:VEVENT
BEGIN:VEVENT
DTSTART;TZID=UTC:20240719T200000
DTEND;TZID=UTC:20240719T230000
DTSTAMP:20260426T020015
CREATED:20240606T161410Z
LAST-MODIFIED:20240606T161410Z
UID:15211-1721419200-1721430000@www.potkavarnauhavrana.cz
SUMMARY:koncert  kapely KdyUžTamBudem
DESCRIPTION:
URL:https://www.potkavarnauhavrana.cz/event/koncert-kapely-kdyuztambudem/
LOCATION:Potkávárna u Havrana\, Karlov 360\, Josefův Důl\, Česká Republika\, 468 44
ATTACH;FMTTYPE=image/jpeg:https://www.potkavarnauhavrana.cz/wp-content/uploads/2024/06/Kdyuztambudem3.jpg
END:VEVENT
BEGIN:VEVENT
DTSTART;TZID=UTC:20240717T200000
DTEND;TZID=UTC:20240717T230000
DTSTAMP:20260426T020015
CREATED:20240606T161107Z
LAST-MODIFIED:20240606T161107Z
UID:15206-1721246400-1721257200@www.potkavarnauhavrana.cz
SUMMARY:Heligonky v podání Karla & Karla Nováků
DESCRIPTION:
URL:https://www.potkavarnauhavrana.cz/event/heligonky-v-podani-karla-karla-novaku/
LOCATION:Potkávárna u Havrana\, Karlov 360\, Josefův Důl\, Česká Republika\, 468 44
ATTACH;FMTTYPE=image/jpeg:https://www.potkavarnauhavrana.cz/wp-content/uploads/2024/06/heligonky.jpg
END:VEVENT
BEGIN:VEVENT
DTSTART;TZID=UTC:20240705T200000
DTEND;TZID=UTC:20240705T220000
DTSTAMP:20260426T020015
CREATED:20240606T160724Z
LAST-MODIFIED:20240606T160724Z
UID:15202-1720209600-1720216800@www.potkavarnauhavrana.cz
SUMMARY:Petra Procházková - Cesta Rusů k válce
DESCRIPTION:
URL:https://www.potkavarnauhavrana.cz/event/petra-prochazkova-cesta-rusu-k-valce/
LOCATION:Potkávárna u Havrana\, Karlov 360\, Josefův Důl\, Česká Republika\, 468 44
ATTACH;FMTTYPE=image/jpeg:https://www.potkavarnauhavrana.cz/wp-content/uploads/2024/06/PetraProchazkovaCestaRusu-pozvanka.jpg
END:VEVENT
BEGIN:VEVENT
DTSTART;TZID=UTC:20240607T200000
DTEND;TZID=UTC:20240607T230000
DTSTAMP:20260426T020015
CREATED:20240517T142726Z
LAST-MODIFIED:20240517T142726Z
UID:14957-1717790400-1717801200@www.potkavarnauhavrana.cz
SUMMARY:koncert TŇD
DESCRIPTION:
URL:https://www.potkavarnauhavrana.cz/event/koncert-tnd/
LOCATION:Potkávárna u Havrana\, Karlov 360\, Josefův Důl\, Česká Republika\, 468 44
ATTACH;FMTTYPE=image/jpeg:https://www.potkavarnauhavrana.cz/wp-content/uploads/2024/05/TND.jpg
END:VEVENT
BEGIN:VEVENT
DTSTART;TZID=UTC:20240330T200000
DTEND;TZID=UTC:20240330T230000
DTSTAMP:20260426T020015
CREATED:20240311T160621Z
LAST-MODIFIED:20240311T160621Z
UID:14547-1711828800-1711839600@www.potkavarnauhavrana.cz
SUMMARY:koncert - Adam Tvrdý Trio
DESCRIPTION:
URL:https://www.potkavarnauhavrana.cz/event/koncert-adam-tvrdy-trio/
LOCATION:Potkávárna u Havrana\, Karlov 360\, Josefův Důl\, Česká Republika\, 468 44
ATTACH;FMTTYPE=image/jpeg:https://www.potkavarnauhavrana.cz/wp-content/uploads/2024/03/AdamTvrdyTrio.jpg
END:VEVENT
BEGIN:VEVENT
DTSTART;TZID=UTC:20240318T170000
DTEND;TZID=UTC:20240318T200000
DTSTAMP:20260426T020015
CREATED:20240218T210249Z
LAST-MODIFIED:20240218T210249Z
UID:14376-1710781200-1710792000@www.potkavarnauhavrana.cz
SUMMARY:Cestovatelská beseda - Galapágy
DESCRIPTION:
URL:https://www.potkavarnauhavrana.cz/event/cestovatelska-beseda-galapagy/
LOCATION:Potkávárna u Havrana\, Karlov 360\, Josefův Důl\, Česká Republika\, 468 44
ATTACH;FMTTYPE=image/jpeg:https://www.potkavarnauhavrana.cz/wp-content/uploads/2024/02/galapagy.jpg
END:VEVENT
BEGIN:VEVENT
DTSTART;TZID=UTC:20240223T201500
DTEND;TZID=UTC:20240223T230000
DTSTAMP:20260426T020015
CREATED:20240218T202154Z
LAST-MODIFIED:20240218T202154Z
UID:14372-1708719300-1708729200@www.potkavarnauhavrana.cz
SUMMARY:koncert - Zpocenej sandál
DESCRIPTION:
URL:https://www.potkavarnauhavrana.cz/event/koncert-zpocenej-sandal/
LOCATION:Potkávárna u Havrana\, Karlov 360\, Josefův Důl\, Česká Republika\, 468 44
ATTACH;FMTTYPE=image/jpeg:https://www.potkavarnauhavrana.cz/wp-content/uploads/2024/02/zpocenejsandal2024.jpg
END:VEVENT
BEGIN:VEVENT
DTSTART;TZID=UTC:20240202T200000
DTEND;TZID=UTC:20240202T220000
DTSTAMP:20260426T020015
CREATED:20240128T155742Z
LAST-MODIFIED:20240128T155742Z
UID:14156-1706904000-1706911200@www.potkavarnauhavrana.cz
SUMMARY:Bhután - putování zemí hřmícího draka
DESCRIPTION:
URL:https://www.potkavarnauhavrana.cz/event/bhutan-putovani-zemi-hrmiciho-draka/
LOCATION:Potkávárna u Havrana\, Karlov 360\, Josefův Důl\, Česká Republika\, 468 44
ATTACH;FMTTYPE=image/jpeg:https://www.potkavarnauhavrana.cz/wp-content/uploads/2024/01/bhutan-noskovi.jpg
END:VEVENT
BEGIN:VEVENT
DTSTART;TZID=UTC:20240127T200000
DTEND;TZID=UTC:20240127T233000
DTSTAMP:20260426T020015
CREATED:20231012T225946Z
LAST-MODIFIED:20240119T102639Z
UID:12744-1706385600-1706398200@www.potkavarnauhavrana.cz
SUMMARY:Country bál
DESCRIPTION:
URL:https://www.potkavarnauhavrana.cz/event/country-bal-3/
LOCATION:Potkávárna u Havrana\, Karlov 360\, Josefův Důl\, Česká Republika\, 468 44
ATTACH;FMTTYPE=image/jpeg:https://www.potkavarnauhavrana.cz/wp-content/uploads/2023/10/CountryBal2024.jpg
END:VEVENT
BEGIN:VEVENT
DTSTART;TZID=UTC:20240120T200000
DTEND;TZID=UTC:20240120T220000
DTSTAMP:20260426T020015
CREATED:20240108T140520Z
LAST-MODIFIED:20240109T122252Z
UID:13946-1705780800-1705788000@www.potkavarnauhavrana.cz
SUMMARY:Cestovatelská beseda - 5 let prázdnin
DESCRIPTION:
URL:https://www.potkavarnauhavrana.cz/event/cestovatelska-beseda-5-let-prazdnin/
LOCATION:Potkávárna u Havrana\, Karlov 360\, Josefův Důl\, Česká Republika\, 468 44
ATTACH;FMTTYPE=image/jpeg:https://www.potkavarnauhavrana.cz/wp-content/uploads/2024/01/5-let-prazdnin-1.jpg
END:VEVENT
BEGIN:VEVENT
DTSTART;TZID=UTC:20231229T200000
DTEND;TZID=UTC:20231229T230000
DTSTAMP:20260426T020015
CREATED:20231212T093124Z
LAST-MODIFIED:20231212T093124Z
UID:13569-1703880000-1703890800@www.potkavarnauhavrana.cz
SUMMARY:koncert - Kdy už tam budem
DESCRIPTION:
URL:https://www.potkavarnauhavrana.cz/event/koncert-kdy-uz-tam-budem/
LOCATION:Potkávárna u Havrana\, Karlov 360\, Josefův Důl\, Česká Republika\, 468 44
ATTACH;FMTTYPE=image/jpeg:https://www.potkavarnauhavrana.cz/wp-content/uploads/2023/12/Kdyuztambudem2.jpg
END:VEVENT
BEGIN:VEVENT
DTSTART;TZID=UTC:20231216T200000
DTEND;TZID=UTC:20231216T220000
DTSTAMP:20260426T020015
CREATED:20231212T092947Z
LAST-MODIFIED:20231212T092947Z
UID:13565-1702756800-1702764000@www.potkavarnauhavrana.cz
SUMMARY:Cestovatelská beseda - Chile
DESCRIPTION:
URL:https://www.potkavarnauhavrana.cz/event/cestovatelska-beseda-chile/
LOCATION:Potkávárna u Havrana\, Karlov 360\, Josefův Důl\, Česká Republika\, 468 44
ATTACH;FMTTYPE=image/jpeg:https://www.potkavarnauhavrana.cz/wp-content/uploads/2023/12/Chile.jpg
END:VEVENT
BEGIN:VEVENT
DTSTART;TZID=UTC:20231125T200000
DTEND;TZID=UTC:20231125T220000
DTSTAMP:20260426T020015
CREATED:20231012T225723Z
LAST-MODIFIED:20231012T225723Z
UID:12742-1700942400-1700949600@www.potkavarnauhavrana.cz
SUMMARY:Cestovatelská beseda - Island - Láďa Tajovský
DESCRIPTION:
URL:https://www.potkavarnauhavrana.cz/event/cestovatelska-beseda-island-lada-tajovsky/
LOCATION:Potkávárna u Havrana\, Karlov 360\, Josefův Důl\, Česká Republika\, 468 44
END:VEVENT
END:VCALENDAR